BEGIN:VCALENDAR
VERSION:2.0
PRODID:-//Sharma Climbing - ECPv6.15.17.1//NONSGML v1.0//EN
CALSCALE:GREGORIAN
METHOD:PUBLISH
X-ORIGINAL-URL:https://sharmaclimbing.com/ca/
X-WR-CALDESC:Esdeveniments per Sharma Climbing
REFRESH-INTERVAL;VALUE=DURATION:PT1H
X-Robots-Tag:noindex
X-PUBLISHED-TTL:PT1H
BEGIN:VTIMEZONE
TZID:Europe/Paris
BEGIN:DAYLIGHT
TZOFFSETFROM:+0100
TZOFFSETTO:+0200
TZNAME:CEST
DTSTART:20240331T010000
END:DAYLIGHT
BEGIN:STANDARD
TZOFFSETFROM:+0200
TZOFFSETTO:+0100
TZNAME:CET
DTSTART:20241027T010000
END:STANDARD
BEGIN:DAYLIGHT
TZOFFSETFROM:+0100
TZOFFSETTO:+0200
TZNAME:CEST
DTSTART:20250330T010000
END:DAYLIGHT
BEGIN:STANDARD
TZOFFSETFROM:+0200
TZOFFSETTO:+0100
TZNAME:CET
DTSTART:20251026T010000
END:STANDARD
BEGIN:DAYLIGHT
TZOFFSETFROM:+0100
TZOFFSETTO:+0200
TZNAME:CEST
DTSTART:20260329T010000
END:DAYLIGHT
BEGIN:STANDARD
TZOFFSETFROM:+0200
TZOFFSETTO:+0100
TZNAME:CET
DTSTART:20261025T010000
END:STANDARD
BEGIN:DAYLIGHT
TZOFFSETFROM:+0100
TZOFFSETTO:+0200
TZNAME:CEST
DTSTART:20270328T010000
END:DAYLIGHT
BEGIN:STANDARD
TZOFFSETFROM:+0200
TZOFFSETTO:+0100
TZNAME:CET
DTSTART:20271031T010000
END:STANDARD
END:VTIMEZONE
BEGIN:VEVENT
DTSTART;VALUE=DATE:20260410
DTEND;VALUE=DATE:20260411
DTSTAMP:20260419T034624
CREATED:20251114T210600Z
LAST-MODIFIED:20251215T130740Z
UID:10000023-1775779200-1775865599@sharmaclimbing.com
SUMMARY:Dia del soci Sharma Climbing Barcelona
DESCRIPTION:Porta un acompanyant gratuït i gaudeixin d’activitats exclusives\n			\n				\n				\n				\n				\n				\n			\n				\n				\n				\n				\n				Porta un acompanyant gratuït i gaudeixin d’activitats exclusives\n			\n			\n				\n				\n				\n				\n			\n				\n				\n				\n				\n				\n				\n				Porta un acompanyant\n			\n			\n				\n				\n				\n				\n			\n				\n				\n				\n				\n				\n				\n				Porta un acompanyant gratuït\n			\n			\n				\n				\n				\n				\n			\n				\n				\n			\n				\n				\n				\n				\n				\n				\n				\n				\n				\n				\n				\n				\n				\n				\n				\n				\n				\n				Gaudeix del Dia del Soci i porta un acompanyant gratis\n			\n			\n				\n				\n				\n				\n				\n				\n				\n				\n				\n				El Dia del Soci és una jornada especial pensada perquè comparteixis la teva passió per l’escalada. Tots els socis de Sharma Climbing poden portar un acompanyant totalment gratuït\, simplement arribant junts a recepció. Una oportunitat ideal per convidar algú a descobrir Sharma i escalar al teu costat. \n			\n			\n				\n				\n				\n				\n			\n				\n				\n			\n				\n				\n				\n				\n				\n				\n				\n				\n				\n				\n				\n				\n				\n				\n				\n				\n				\n				\n					\n					\n						Dia del soci\n						Com a soci pots portar un acompanyant totalment gratuït perquè conegui i visqui l’experiència Sharma Climbing. \nA cada Dia del Soci pots convidar una persona diferent que no hagi visitat abans el rocòdrom.
URL:https://sharmaclimbing.com/ca/eventos/dia-del-socio-sharma-climbing-barcelona/
LOCATION:Sharma Climbing Barcelona\, Carrer del Marroc 204\, Barcelona\, Barcelona\, 08019\, Spain
CATEGORIES:Sharma Climbing Barcelona,Sharma Climbing Barcelona CA,Socios,Socis
ATTACH;FMTTYPE=image/webp:https://sharmaclimbing.com/wp-content/uploads/2025/11/destacada-dia-soci-bcn.webp
END:VEVENT
BEGIN:VEVENT
DTSTART;VALUE=DATE:20260410
DTEND;VALUE=DATE:20260411
DTSTAMP:20260419T034624
CREATED:20251114T162304Z
LAST-MODIFIED:20251114T230408Z
UID:10000020-1775779200-1775865599@sharmaclimbing.com
SUMMARY:Dia del soci Sharma Climbing Gavà
DESCRIPTION:Porta un acompanyant gratuït i gaudeixin d’activitats exclusives\n			\n				\n				\n				\n				\n				\n			\n				\n				\n				\n				\n				Porta un acompanyant gratuït i gaudeixin d’activitats exclusives\n			\n			\n				\n				\n				\n				\n			\n				\n				\n				\n				\n				\n				\n				Porta un acompanyant\n			\n			\n				\n				\n				\n				\n			\n				\n				\n				\n				\n				\n				\n				Porta un acompanyant gratuït\n			\n			\n				\n				\n				\n				\n			\n				\n				\n			\n				\n				\n				\n				\n				\n				\n				\n				\n				\n				\n				\n				\n				\n				\n				\n				\n				\n				Gaudeix del Dia del Soci i porta un acompanyant gratis\n			\n			\n				\n				\n				\n				\n				\n				\n				\n				\n				\n				El Dia del Soci és una jornada especial pensada perquè comparteixis la teva passió per l’escalada. Tots els socis de Sharma Climbing poden portar un acompanyant totalment gratis\, simplement arribant junts a recepció. Una oportunitat ideal per convidar algú a descobrir Sharma i escalar al teu costat. \n			\n			\n				\n				\n				\n				\n			\n				\n				\n			\n				\n				\n				\n				\n				\n				\n				\n				\n				\n				\n				\n				\n				\n				\n				\n				\n				\n				\n					\n					\n						Dia del soci\n						Com a soci pots portar un acompanyant gratuïtament perquè conegui Sharma Climbing. En cada Dia del Soci pots convidar una persona diferent que no hagi visitat abans el rocòdrom.
URL:https://sharmaclimbing.com/ca/eventos/dia-del-socio-gava/
LOCATION:Shama Climbing Gavà\, Carrer Girona\, 25\, 08850 Gavà\, Barcelona\, Barcelona\, 08850\, Spain
CATEGORIES:Sharma Climbing Gavà,Sharma Climbing Gavà CA,Socios,Socis
ATTACH;FMTTYPE=image/webp:https://sharmaclimbing.com/wp-content/uploads/2025/11/destacada-dia-soci-gava-1.webp
ORGANIZER;CN="Sharma Climbing Gav%C3%A0":MAILTO:info@sharmaclimbinggava.com
END:VEVENT
BEGIN:VEVENT
DTSTART;TZID=Europe/Paris:20260122T100000
DTEND;TZID=Europe/Paris:20260123T220000
DTSTAMP:20260419T034624
CREATED:20251216T113638Z
LAST-MODIFIED:20260122T115807Z
UID:10000033-1769076000-1769205600@sharmaclimbing.com
SUMMARY:Primera presa per escalar amb firends al roco i jornades cultrals
DESCRIPTION:ACTIVITATS\n			\n			\n				\n				\n				\n				\n			\n				\n				\n				\n				\n				\n				\n				ACTIVITATS\n			\n			\n				\n				\n				\n				\n			\n				\n				\n			\n				\n				\n				\n				\n				\n				\n				\n				\n				\n				\n				\n				\n				\n				\n				\n				\n				\n				Descobriu una nova forma d’escalar en rocòdrom\n			\n			\n				\n				\n				\n				\n				\n				\n				\n				\n				\n				Durant els dies 22 i 23 de gener de 2026\, Sharma Climbing Gavà acull un esdeveniment únic que marcarà un abans i un després en l’escalada indoor. Presentem la primera presa homologada per escalar amb friends en rocòdrom\, TARRAGÓ TAP\, dissenyada per l’empresa pionera en la construcció de rocòdroms i preses Tarragó.Es tracta d’un sistema segur i innovador que permet simular l’escalada tradicional en interior. Dues jornades pensades per compartir coneixement\, experimentar de primera mà aquesta novetat i connectar amb algunes de les figures més influents de l’escalada mundial. \n			\n			\n				\n				\n				\n				\n			\n				\n				\n			\n				\n				\n				\n				\n				\n				\n				\n				\n				\n				\n				\n				\n				\n				\n				\n				\n				\n				ACTIVITATS\n			\n			\n				\n				\n				\n				\n			\n				\n				\n				\n				\n				\n				\n				\n				\n				\n				\n				Presentació de les preses homologades al rocòdromL’equip de Tarragó farà una presentació sobre les noves preses homologades. \n				\n			\n				\n			\n				\n				\n				\n				\n				Dijous 22 · 18:00 h\n			\n			\n				\n				\n				\n				\n			\n				\n				\n				\n				\n				\n				\n				\n				\n				\n				\n				Dijous 22 · 19:00 – 20:30 h\n			\n				\n			\n				\n				\n				\n				\n				Ponència conjunta: innovació i protecció en escaladaXerrada conjunta de Chris Sharma i Alexander Huber a la sala del Boulder Kilter. Un diàleg sobre l’evolució de l’escalada\, la innovació tècnica i el paper de la protecció en la formació i el futur de l’esport\, així com sobre com innovacions com les noves TARRAGÓ TAP poden influir en la nostra manera d’escalar. \n				\n			\n			\n				\n				\n				\n				\n			\n				\n				\n				\n				\n				\n				\n				\n				\n				\n				\n				Aperitiu i trobada socialTrobada distèsa al bar de Sharma Climbing Gavà amb ponents i convidats. Espai de networking amb exposicions obertes de Xavi Mountain\, Armand Ballart i Antonio García Picazo\, i presència de marques i professionals del sector. \n				\n			\n				\n			\n				\n				\n				\n				\n				Dijous 22 · 20:30 – 22:00 h\n			\n			\n				\n				\n				\n				\n			\n				\n				\n				\n				\n				\n				\n				\n				\n				\n				\n				Divendres 23 · 18:00 – 21:00 h\n			\n				\n			\n				\n				\n				\n				\n				Conferència i taller de big wall – Genís HernándezSessió dividida en dos blocs: projecció del documental Selecció Natural amb col·loqui posterior i taller pràctic de big wall i artificial\, amb instal·lació de portaledge i demostracions tècniques reals al rocòdrom. \n				\n			\n			\n				\n				\n				\n				\n			\n				\n				\n				\n				\n				\n				\n				\n				\n				\n				\n				Festa de cloendaTancament de l´esdeveniment amb concert en directe del grup català de punk rock Estallido. Un final festiu per compartir entre convidats\, assistents i comunitat escaladora. \n				\n			\n				\n			\n				\n				\n				\n				\n				Divendres 23 · 21:00 – 22:30 h\n			\n			\n				\n				\n				\n				\n			\n				\n				\n				\n				\n				\n				\n				\n				\n				\n				\n				\n			\n			\n				\n				\n				\n				\n			\n				\n				\n			\n				\n				\n				\n				\n				\n				\n				\n				\n				\n				\n				\n				\n				\n				\n				\n				\n				\n				Ponents i figures convidades\n			\n			\n				\n				\n				\n				\n			\n				\n				\n				\n				\n				\n				\n				\n				\n				\n				\n				\n					\n					\n						Chris Sharma\n						Figura clau de l’escalada mundial i un dels escaladors més influents de la història. Pioner del grau 9b\, ha marcat un abans i un després a l’escalada esportiva moderna. A més\, és fundador de Sharma Climbing\, projecte amb què impulsa la innovació\, la comunitat i el desenvolupament de l’escalada indoor a nivell internacional. \n					\n				\n			\n				\n				\n				\n				\n				\n					\n					\n						Antonio García Picazo\n						Figura històrica de l´escalada a Espanya i membre fundador dels Pirates de Montserrat. Oberturista de rutes mítiques i autor de nombroses guies\, aportarà una mirada única sobre l’evolució del material i la història de l’escalada. \n					\n				\n			\n			\n				\n				\n				\n				\n				\n				\n				\n				\n				\n				\n					\n					\n						Alexander Huber\n						\n\n\n\n\n\n\n\nAlpinista i escalador de referència internacional\, conegut pels seus grans èxits en paret i velocitat. Pioner a l’escalada\, ha protagonitzat ascensions històriques a Yosemite\, els Alps i altres serralades del món. La trajectòria combina rendiment\, exploració i una visió compromesa amb l’evolució tècnica de l’alpinisme modern. \n\n\n\n\n\n\n\n\n					\n				\n			\n				\n				\n				\n				\n				\n					\n					\n						Xavi Mountain\n						Il·lustrador i escalador\, creador de les conegudes vinyetes Paranoies Vertikals. A través de l’humor i la sàtira retrata la realitat i les contradiccions de l’univers escalador des d’una mirada propera i crítica. \n					\n				\n			\n			\n				\n				\n				\n				\n				\n				\n				\n				\n				\n				\n					\n					\n						Genís Hernández\n						\n\n\n\n\n\n\n\nEspecialista en big wall i defensor de la filosofia non expansion. Conegut per obertures de gran compromís i pel documental Selecció Natural representa una visió profunda i exigent de l’escalada tècnica i ètica. La seva trajectòria destaca per la cerca de coherència\, respecte per la roca i un enfocament integral de l’alpinisme. \n\n\n\n\n\n\n\n\n					\n				\n			\n				\n				\n				\n				\n				\n					\n					\n						Armand Ballart\n						Escalador\, escriptor i il·lustrador amb una extensa trajectòria en obertura de vies. Autor de llibres de referència combina la pràctica de l’escalada amb la divulgació cultural i artística del món vertical.
URL:https://sharmaclimbing.com/ca/eventos/escalada-con-friends-en-el-roco/
LOCATION:Shama Climbing Gavà\, Carrer Girona\, 25\, 08850 Gavà\, Barcelona\, Barcelona\, 08850\, Spain
CATEGORIES:Comunidad,Sharma Climbing Gavà
ATTACH;FMTTYPE=image/webp:https://sharmaclimbing.com/wp-content/uploads/2025/12/destacada-cat-nueva-presa.webp
ORGANIZER;CN="Sharma Climbing Gav%C3%A0":MAILTO:info@sharmaclimbinggava.com
END:VEVENT
BEGIN:VEVENT
DTSTART;TZID=Europe/Paris:20251215T190000
DTEND;TZID=Europe/Paris:20251218T203000
DTSTAMP:20260419T034624
CREATED:20251202T113114Z
LAST-MODIFIED:20251216T144452Z
UID:10000029-1765825200-1766089800@sharmaclimbing.com
SUMMARY:Entrenament i Salut a Escalada
DESCRIPTION:ENTRENAMENT I SALUT A ESCALADA\n			\n			\n				\n				\n				\n				\n			\n				\n				\n				\n				\n				\n				\n				MIRA LES XERRADES\n			\n			\n				\n				\n				\n				\n			\n				\n				\n				\n				\n				\n				\n				MIRA LES XERRADES\n			\n			\n				\n				\n				\n				\n			\n				\n				\n			\n				\n				\n				\n				\n				\n				\n				\n				\n				\n				\n				\n				\n				\n				\n				\n				\n				\n				Viu una setmana d’entrenament i salut a Sharma Climbing Gavà\n			\n			\n				\n				\n				\n				\n				\n				\n				\n				\n				\n				Durant la setmana del 15 al 21 de desembre\, us convidem a participar en un cicle especial de sessions centrades en l’entrenament\, la prevenció i el rendiment en escalada. De dilluns a dijous\, diferents experts del sector impartiran xerrades i tallers teoricopràctics sobre temes clau per millorar com a escalador: des de l’anàlisi de dades en competició fins a la prevenció de lesions i el treball de força adaptat per nivells. Una oportunitat única per aprendre\, preguntar i continuar creixent juntament amb ponents de referència. \n			\n			\n				\n				\n				\n				\n			\n				\n				\n			\n				\n				\n				\n				\n				\n				\n				\n				\n				\n				\n				\n				\n				\n				\n				\n				\n				\n				15/12 – 19:00 a 20:30 h \n			\n				\n				\n				\n				\n				\n					\n					\n						Anàlisi de dades en escalada de competició\n						Aprèn com s’interpreten i apliquen les dades a l’escalada d’alt rendiment. Matías Ochoa explicarà com mesurar el progrés\, analitzar el rendiment en competició i utilitzar informació clau per millorar la preparació i estratègia dels escaladors. A més\, aprofundirà en la presa de decisions basada en dades i en com poden ajudar-te a optimitzar els teus entrenaments ia comprendre millor els teus punts forts i àrees de millora dins del mur. \nVULL APUNTAR-ME \n					\n				\n			\n			\n				\n				\n				\n				\n				\n				\n				\n				\n				\n				16/12 – 19:00 a 20:30 h \n			\n				\n				\n				\n				\n				\n					\n					\n						Prevenció de lesions en escalada\n						Coneix les pautes essencials per evitar lesions comunes a escaladors i entrenar de forma segura. Luis Betancourt compartirà eines pràctiques per identificar riscos\, millorar la tècnica i mantenir un cos sa i preparat. \nTambé abordarà estratègies d’escalfament i mobilitat que permeten reduir molèsties\, prevenir recaigudes i perllongar el teu progrés en el temps\, tant a la roca com al rocòdrom. \nVULL APUNTAR-ME \n					\n				\n			\n			\n				\n				\n				\n				\n				\n				\n				\n				\n				\n				17/12 i 18/12 – 19:00 a 20:30 h \n			\n				\n				\n				\n				\n				\n					\n					\n						Entrenament de la força i la resistència al teu rocòdrom\n						\n\n\n\n\n\n\nAlbert de Pablo i Jordi Juanola\, entrenadors de l’àrea d’alt rendiment del CCT21\, oferiran una sessió sobre com optimitzar el teu entrenament de força i resistència dins del rocòdrom. Amb experiència consolidada en preparació física\, readaptació i innovació metodològica\, compartiran estratègies pràctiques per aprofitar al màxim les instal·lacions i millorar el teu rendiment de manera eficient i adaptada al teu nivell. \nVULL APUNTAR-ME 17/12VULL APUNTAR-ME 18/12 \n\n\n\n\n\n\n\n					\n				\n			\n			\n				\n				\n				\n				\n			\n				\n				\n			\n				\n				\n				\n				\n				\n				\n				\n				\n				\n				\n				\n				\n				\n				\n				\n				\n				\n				REPASSA TOTA LA INFORMACIÓ DE L’ESDEVENIMENT
URL:https://sharmaclimbing.com/ca/eventos/entrenament-i-salut-a-escalada/
LOCATION:Shama Climbing Gavà\, Carrer Girona\, 25\, 08850 Gavà\, Barcelona\, Barcelona\, 08850\, Spain
CATEGORIES:Comunidad,Sharma Climbing Gavà
ATTACH;FMTTYPE=image/webp:https://sharmaclimbing.com/wp-content/uploads/2025/12/destacada-salud-cat.webp
ORGANIZER;CN="Sharma Climbing Gav%C3%A0":MAILTO:info@sharmaclimbinggava.com
END:VEVENT
BEGIN:VEVENT
DTSTART;TZID=Europe/Paris:20251204T173000
DTEND;TZID=Europe/Paris:20251204T210000
DTSTAMP:20260419T034624
CREATED:20251112T110807Z
LAST-MODIFIED:20251112T122048Z
UID:10000013-1764869400-1764882000@sharmaclimbing.com
SUMMARY:Projecció Endless Power amb la visita d’en Ramonet + Test Tenaya Aruma
DESCRIPTION:Endless Power + Ramonet + Test Tenaya Aruma\n			\n				\n				\n				\n				\n				\n					\n					\n						 \n						Day(s) \n					\n						: \n					\n						 \n						Hour(s) \n					\n						: \n					\n						 \n						Minute(s) \n					\n						: \n					\n						 \n						Second(s) \n					\n				\n			\n			\n				\n				\n				\n				\n			\n				\n				\n				\n				\n				\n				\n				Reserva la teva plaça\n			\n			\n				\n				\n				\n				\n			\n				\n				\n				\n				\n				\n				\n				Reserva la teva plaça\n			\n			\n				\n				\n				\n				\n			\n				\n				\n			\n				\n				\n				\n				\n				\n				\n				\n				\n				\n				\n				\n				\n				\n				\n				\n				\n				\n				VIU UNA TARDA ÚNICA\n			\n			\n				\n				\n				\n				\n			\n				\n				\n				\n				\n				\n				\n				\n				\n				\n				\n				Test Tenaya – Model Aruma\n\n\n\n\n\n\nParticipa en el Test Tenaya i sigues dels primers a provar les noves Tenaya Aruma. Descobreix la seva precisió\, sensibilitat i comoditat directament al mur\, i viu una experiència única compartint impressions amb altres escaladors apassionats per la innovació i el rendiment. \n\n\n\n\n\n\n\n				\n			\n				\n			\n				\n				\n				\n				\n				17:00 – 20:30 h\n			\n			\n				\n				\n				\n				\n			\n				\n				\n				\n				\n				\n				\n				\n				\n				\n				\n				19:00 h\n			\n				\n			\n				\n				\n				\n				\n				Projecció i xerrada – Endless PowerGaudeix de la projecció del documental Endless Power i coneix de prop la història de Ramonet. Una pel·lícula inspiradora que recorre la seva trajectòria\, la seva mentalitat de superació i els valors que l’han mantingut a l’elit durant més de dues dècades. \n				Reserva la teva plaça (gratuït)\n			\n			\n				\n				\n				\n				\n			\n				\n				\n				\n				\n				\n				\n				\n				\n				\n				\n				\n			\n			\n				\n				\n				\n				\n			\n				\n				\n			\n				\n				\n				\n				\n				\n				\n				\n				\n				\n				\n				\n				\n				\n				\n				\n				\n				\n				Convidat especial\nEns acompanyarà a Sharma Climbing Barcelona Ramón Julián “Ramonet”\, una de les figures més emblemàtiques de l’escalada esportiva mundial\, per presentar la seva pel·lícula Endless Power i compartir amb la comunitat la seva experiència\, aprenentatges i visió sobre l’evolució de l’esport. \n			\n			\n				\n				\n				\n				\n			\n				\n				\n				\n				\n				\n				\n				\n				\n				\n				\n				\n					\n					\n						RAMON JULIÁN "RAMONET"\n						Ramón Julián\, conegut en el món de l’escalada com a Ramonet\, és una de les llegendes més destacades de l’escalada esportiva internacional. Nascut a Manlleu (Catalunya)\, ha estat campió del món\, doble campió d’Europa i guanyador de múltiples proves de la Copa del Món. Reconegut per la seva constància\, tècnica impecable i una trajectòria que l’ha mantingut a l’elit durant més de dues dècades\, en Ramonet representa l’essència de l’esforç i la passió per l’escalada. A més de la seva carrera competitiva\, continua inspirant noves generacions amb el seu enfocament meticulós\, la seva humilitat i el seu amor per la roca. \n					\n				\n			\n			\n				\n				\n				\n				\n			\n				\n				\n			\n				\n				\n				\n				\n				\n				\n				\n				\n				\n				\n				\n				\n				\n				\n				\n				\n				\n				Test Tenaya Aruma\n			\n			\n				\n				\n				\n				\n			\n				\n				\n				\n				\n				\n				\n				\n				\n				\n				\n				\n\n  \n\n  \n    \n    \n    \n\n    \n    \n    \n  \n\n  \n    ⬤\n    ⬤\n    ⬤\n  \n\n\n\n			\n			\n				\n				\n				\n				\n				\n				\n				\n				\n				\n				Vine a provar les noves Tenaya Aruma en exclusiva aquest dijous 4 de desembre de 17:00 a 20:30 h a Sharma Climbing Barcelona. Descobreix per tu mateix la precisió\, sensibilitat i confort que defineixen aquest nou model dissenyat per rendir al màxim en qualsevol tipus de paret. Sent la diferència i comparteix l’experiència amb altres escaladors en una jornada única dedicada a la innovació i la passió per escalar. \n			\n			\n				\n				\n				\n				\n			\n				\n				\n			\n				\n				\n				\n				\n				\n				\n				\n				\n				\n				\n				\n				\n				\n				\n				\n				\n				\n				REPASSA TOTA LA INFORMACIÓ DE L’ESDEVENIMENT
URL:https://sharmaclimbing.com/ca/eventos/endless-power-barcelona/
LOCATION:Sharma Climbing Barcelona\, Carrer del Marroc 204\, Barcelona\, Barcelona\, 08019\, Spain
CATEGORIES:Projeccions,Sharma Climbing Barcelona CA,Socis,Xerrades
ATTACH;FMTTYPE=image/webp:https://sharmaclimbing.com/wp-content/uploads/2025/10/endless-power.webp
END:VEVENT
BEGIN:VEVENT
DTSTART;TZID=Europe/Paris:20251120T183000
DTEND;TZID=Europe/Paris:20251120T213000
DTSTAMP:20260419T034624
CREATED:20251029T115534Z
LAST-MODIFIED:20251106T085219Z
UID:10000007-1763663400-1763674200@sharmaclimbing.com
SUMMARY:HOMO MONTSERRATINUS
DESCRIPTION:L’evolució de l’escalada a Montserrat\n			\n				\n				\n				\n				\n				\n					\n					\n						 \n						Day(s) \n					\n						: \n					\n						 \n						Hour(s) \n					\n						: \n					\n						 \n						Minute(s) \n					\n						: \n					\n						 \n						Second(s) \n					\n				\n			\n			\n				\n				\n				\n				\n			\n				\n				\n				\n				\n				\n				\n				PARTICIPA DEL CONCURS\n			\n				RESERVA EL TEU LLOC\n			\n			\n				\n				\n				\n				\n			\n				\n				\n				\n				\n				\n				\n				PARTICIPA DEL CONCURS\n			\n			\n				\n				\n				\n				\n				\n				RESERVA EL TEU LLOC\n			\n			\n				\n				\n				\n				\n			\n				\n				\n			\n				\n				\n				\n				\n				\n				\n				\n				\n				\n				\n				\n				\n				\n				\n				\n				\n				\n				Guanya una samarreta i un magnesi amb la teva foto de Montserrat\n			\n			\n				\n				\n				\n				\n				\n				\n				\n				\n				\n				Tens una gran foto escalant a Montserrat? Tant si ets fotògraf com a escalador\, aquesta és la teva oportunitat per mostrar-la. Envia la teva imatge en format A4 al formulari d’aquesta pàgina abans del dimarts 18 de novembre i participa al Concurs de Fotografia Montserrat. Totes les fotos s´exposaran el dijous 20 de novembre a Sharma Climbing Gavà\, durant la jornada dedicada al´evolució de l´escalada en aquesta icònica muntanya. \nLa foto guanyadora serà triada per votació del públic a les 20.30 h\, i el seu autor s’emportarà una samarreta i magnesi. \n			\n				PARTICIPA DEL CONCURS\n			\n			\n				\n				\n				\n				\n			\n				\n				\n			\n				\n				\n				\n				\n				\n				\n				\n				\n				\n				\n				\n				\n				\n				\n				\n				\n				\n				VIU UNA NIT ÚNICA\n			\n			\n				\n				\n				\n				\n			\n				\n				\n				\n				\n				\n				\n				\n				\n				\n				\n				Projecció i xerrada – Homo MontserratinusGaudeix del documental Homo Montserratinus i una xerrada-debat amb figures clau del passat i present de l’escalada a Montserrat. Un recorregut audiovisual per la història\, l’ètica i l’evolució d’aquesta escola icònica. \n				Reserva la teva plaça (sense cost)\n			\n				\n			\n				\n				\n				\n				\n				18:30 – 20:00 h\n			\n			\n				\n				\n				\n				\n			\n				\n				\n				\n				\n				\n				\n				\n				\n				\n				\n				20:30 – 21:30 h\n			\n				\n			\n				\n				\n				\n				\n				Vi\, aperitiu i exposició fotogràficaDesprés de la projecció\, comparteix un vi i aperitiu al bar mentre gaudeixes d´una exposició fotogràfica dedicada a l’ escalada a Montserrat. \n				\n			\n			\n				\n				\n				\n				\n			\n				\n				\n				\n				\n				\n				\n				\n				\n				\n				\n				Concurs de Fotografia MontserratParticipa enviant la teva foto d´escalada a Montserrat (format A4). Totes s’exposaran durant l’esdeveniment i la foto guanyadora serà escollida pel públic a les 20.30 h.Premi: samarreta + magnesi \n				Puja la teva foto\n			\n				\n			\n				\n				\n				\n				\n				20:30 h\n			\n			\n				\n				\n				\n				\n			\n				\n				\n				\n				\n				\n				\n				\n				\n				\n				\n				\n			\n			\n				\n				\n				\n				\n			\n				\n				\n			\n				\n				\n				\n				\n				\n				\n				\n				\n				\n				\n				\n				\n				\n				\n				\n				\n				\n				Convidats especials\nNos acompañarán algunos de los protagonistas que han marcado la historia de la escalada en Montserrat. Con ellos compartiremos experiencias\, anécdotas y visiones sobre cómo ha evolucionado la escalada en este entorno único. \n			\n			\n				\n				\n				\n				\n			\n				\n				\n				\n				\n				\n				\n				\n				\n				\n				\n				\n					\n					\n						SAMUEL COLOMER\n						Figura històrica de l’alpinisme català i membre del GAM i la SAM. Entre els anys 60 i 80 va obrir nombroses vies a Montserrat\, els Pirineus i els Andes\, participant també en expedicions internacionals. \n					\n				\n			\n				\n				\n				\n				\n				\n					\n					\n						JOAN CERDÀ\n						Figura histórica del alpinismo catalán y miembro del GAM y la SAM. Entre los años 60 y 80 abrió numerosas vías en Montserrat\, los Pirineos y los Andes\, participando también en expediciones internacionales. \n					\n				\n			\n				\n				\n				\n				\n				\n					\n					\n						DANI BURGAROLAS\n						Escalador i periodista barceloní especialitzat en escalada clàssica i big walls. Membre del CADE\, ha fet primeres ascensions a Montserrat\, els Pirineus i el Mont-sec\, sempre amb un estil ètic i compromès. \n					\n				\n			\n				\n				\n				\n				\n				\n					\n					\n						JORDI ESTEVE\n						Escalador referent a l’escalada clàssica montserratina. Ha obert i alliberat múltiples vies a la zona ia les parets internacionals\, destacant pel seu compromís amb la puresa i l’esperit original de l’escalada. \n					\n				\n			\n			\n				\n				\n				\n				\n			\n				\n				\n			\n				\n				\n				\n				\n				\n				\n				\n				\n				\n				\n				\n				\n				\n				\n				\n				\n				\n				ENVIA LA TEVA PROPOSTA EN MIDA A4 \n\n			\n				\n				\n				\n				\n				\n				\n				\n					\n				\n				\n					\n\n  \n\n\n\n\n     \n\n\n     \n\n Adjuntar diseño TAMAÑO A4 / Adjuntar disseny MIDA A4 / Attach design SIZE A4  (.png/.ai/.pdf - max 20mb) *\n\n\n\n\n  \n  He leído y acepto la\n  \n    \n      política de privacidad\n    \n  \n  \n    (campo obligatorio / required field)\n  \n \n\n\n\n\n\n\n				\n			\n				\n			\n			\n				\n				\n				\n				\n			\n				\n				\n			\n				\n				\n				\n				\n				\n				\n				\n				\n				\n				\n				\n				\n				\n				\n				\n				\n				\n				REPASSA TOTA LA INFORMACIÓ DE L’ESDEVENIMENT
URL:https://sharmaclimbing.com/ca/eventos/homo-montserratinus/
LOCATION:Shama Climbing Gavà\, Carrer Girona\, 25\, 08850 Gavà\, Barcelona\, Barcelona\, 08850\, Spain
ATTACH;FMTTYPE=image/webp:https://sharmaclimbing.com/wp-content/uploads/2025/10/Homo-Montserratinus-Alternativa3-Pared-de-lAeri-Samuel-Colomer-02-scaled.webp
ORGANIZER;CN="Sharma Climbing Gav%C3%A0":MAILTO:info@sharmaclimbinggava.com
END:VEVENT
END:VCALENDAR