BEGIN:VCALENDAR
VERSION:2.0
PRODID:-//Sharma Climbing - ECPv6.15.17.1//NONSGML v1.0//EN
CALSCALE:GREGORIAN
METHOD:PUBLISH
X-WR-CALNAME:Sharma Climbing
X-ORIGINAL-URL:https://sharmaclimbing.com/en/
X-WR-CALDESC:Events for Sharma Climbing
REFRESH-INTERVAL;VALUE=DURATION:PT1H
X-Robots-Tag:noindex
X-PUBLISHED-TTL:PT1H
BEGIN:VTIMEZONE
TZID:Europe/Paris
BEGIN:DAYLIGHT
TZOFFSETFROM:+0100
TZOFFSETTO:+0200
TZNAME:CEST
DTSTART:20240331T010000
END:DAYLIGHT
BEGIN:STANDARD
TZOFFSETFROM:+0200
TZOFFSETTO:+0100
TZNAME:CET
DTSTART:20241027T010000
END:STANDARD
BEGIN:DAYLIGHT
TZOFFSETFROM:+0100
TZOFFSETTO:+0200
TZNAME:CEST
DTSTART:20250330T010000
END:DAYLIGHT
BEGIN:STANDARD
TZOFFSETFROM:+0200
TZOFFSETTO:+0100
TZNAME:CET
DTSTART:20251026T010000
END:STANDARD
BEGIN:DAYLIGHT
TZOFFSETFROM:+0100
TZOFFSETTO:+0200
TZNAME:CEST
DTSTART:20260329T010000
END:DAYLIGHT
BEGIN:STANDARD
TZOFFSETFROM:+0200
TZOFFSETTO:+0100
TZNAME:CET
DTSTART:20261025T010000
END:STANDARD
BEGIN:DAYLIGHT
TZOFFSETFROM:+0100
TZOFFSETTO:+0200
TZNAME:CEST
DTSTART:20270328T010000
END:DAYLIGHT
BEGIN:STANDARD
TZOFFSETFROM:+0200
TZOFFSETTO:+0100
TZNAME:CET
DTSTART:20271031T010000
END:STANDARD
END:VTIMEZONE
BEGIN:VEVENT
DTSTART;TZID=Europe/Paris:20260122T100000
DTEND;TZID=Europe/Paris:20260123T220000
DTSTAMP:20260423T081257
CREATED:20251216T113638Z
LAST-MODIFIED:20260122T115715Z
UID:10000032-1769076000-1769205600@sharmaclimbing.com
SUMMARY:First hold for climbing with friends at the climbing gym and cultural events
DESCRIPTION:ACTIVITIES\n			\n			\n				\n				\n				\n				\n			\n				\n				\n				\n				\n				\n				\n				ACTIVITIES\n			\n			\n				\n				\n				\n				\n			\n				\n				\n			\n				\n				\n				\n				\n				\n				\n				\n				\n				\n				\n				\n				\n				\n				\n				\n				\n				\n				Discover a new way to climb in indoor climbing\n			\n			\n				\n				\n				\n				\n				\n				\n				\n				\n				\n				During January 22 and 23\, 2026\, Sharma Climbing Gavà will host a unique event that will mark a turning point in indoor climbing. We present TARRAGÓ TAP\, the first certified hold designed for climbing with trad protection (friends) in a climbing gym\, created by Tarragó\, a pioneering company in the construction of climbing gyms and holds.This is a safe and innovative system that makes it possible to simulate traditional climbing indoors. Two days designed to share knowledge\, experience this innovation firsthand\, and connect with some of the most influential figures in the world of climbing. \n			\n			\n				\n				\n				\n				\n			\n				\n				\n			\n				\n				\n				\n				\n				\n				\n				\n				\n				\n				\n				\n				\n				\n				\n				\n				\n				\n				ACTIVITIES\n			\n			\n				\n				\n				\n				\n			\n				\n				\n				\n				\n				\n				\n				\n				\n				\n				\n				Presentation of the approved climbing holds at the climbing wallTarragó’s team will give a presentation on their new certified dams. \n				\n			\n				\n			\n				\n				\n				\n				\n				Thursday 22 · 18:00 h\n			\n			\n				\n				\n				\n				\n			\n				\n				\n				\n				\n				\n				\n				\n				\n				\n				\n				Thursday 22 · 19:00 – 20:30 h\n			\n				\n			\n				\n				\n				\n				\n				Joint presentation: innovation and protection in climbingJoint talk by Chris Sharma and Alexander Huber in the Boulder Kilter area. A conversation about the evolution of climbing\, technical innovation\, and the role of protection in training and in the future of the sport\, as well as how innovations such as the new TARRAGÓ TAP can influence the way we climb. \n				\n			\n			\n				\n				\n				\n				\n			\n				\n				\n				\n				\n				\n				\n				\n				\n				\n				\n				Appetizers and social gatheringA relaxed gathering at the Sharma Climbing Gavà bar with speakers and guests. A networking space featuring open presentations by Xavi Mountain\, Armand Ballart\, and Antonio García Picazo\, and the presence of brands and professionals from the sector. \n				\n			\n				\n			\n				\n				\n				\n				\n				Thursday 22 · 20:30 – 22:00 h\n			\n			\n				\n				\n				\n				\n			\n				\n				\n				\n				\n				\n				\n				\n				\n				\n				\n				Friday 23 · 18:00 – 21:00 h\n			\n				\n			\n				\n				\n				\n				\n				Big wall conference and workshop – Genís HernándezSession divided into two blocks: screening of the documentary Selecció Natural with subsequent discussion and practical workshop on big wall and artificial climbing\, with portaledge installation and real technical demonstrations on the climbing wall. \n				\n			\n			\n				\n				\n				\n				\n			\n				\n				\n				\n				\n				\n				\n				\n				\n				\n				\n				Closing partyThe event concluded with a live concert by the Catalan punk rock band Estallido. A festive finale to share with guests\, attendees\, and the climbing community. \n				\n			\n				\n			\n				\n				\n				\n				\n				Friday 23 · 21:00 – 22:30 h\n			\n			\n				\n				\n				\n				\n			\n				\n				\n				\n				\n				\n				\n				\n				\n				\n				\n				\n			\n			\n				\n				\n				\n				\n			\n				\n				\n			\n				\n				\n				\n				\n				\n				\n				\n				\n				\n				\n				\n				\n				\n				\n				\n				\n				\n				Ponentes y figuras invitadas\n			\n			\n				\n				\n				\n				\n			\n				\n				\n				\n				\n				\n				\n				\n				\n				\n				\n				\n					\n					\n						Chris Sharma\n						\n\n\n\n\n\n\n\nA key figure in the world of climbing and one of the most influential climbers in history. A pioneer of the 9b grade\, he has marked a turning point in modern sport climbing. He is also the founder of Sharma Climbing\, a project through which he promotes innovation\, community\, and the development of indoor climbing internationally. \n\n\n\n\n\n\n\n\n					\n				\n			\n				\n				\n				\n				\n				\n					\n					\n						Antonio García Picazo\n						A historical figure in Spanish climbing and a founding member of the Piratas de Montserrat (Pirates of Montserrat)\, he has opened legendary routes and authored numerous guidebooks\, offering a unique perspective on the evolution of climbing equipment and history. \n					\n				\n			\n			\n				\n				\n				\n				\n				\n				\n				\n				\n				\n				\n					\n					\n						Alexander Huber\n						\n\n\n\n\n\n\n\nAn internationally renowned mountaineer and climber\, known for his remarkable achievements on the wall and his speed climbing. A pioneer in climbing\, he has made historic ascents in Yosemite\, the Alps\, and other mountain ranges around the world. His career combines performance\, exploration\, and a commitment to the technical evolution of modern mountaineering. \n\n\n\n\n\n\n\n\n					\n				\n			\n				\n				\n				\n				\n				\n					\n					\n						Xavi Mountain\n						Illustrator and climber\, creator of the well-known comic strip Paranoias Vertikales. Through humor and satire\, he portrays the reality and contradictions of the climbing world from a close and critical perspective. \n					\n				\n			\n			\n				\n				\n				\n				\n				\n				\n				\n				\n				\n				\n					\n					\n						Genís Hernández\n						\n\n\n\n\n\n\n\nA big wall specialist and advocate of the non-expansion philosophy\, he is known for his high-commitment first ascents and the documentary Selecció Natural. He embodies a profound and demanding vision of technical and ethical climbing. His career is characterized by a pursuit of consistency\, respect for the rock\, and a holistic approach to mountaineering. \n\n\n\n\n\n\n\n\n					\n				\n			\n				\n				\n				\n				\n				\n					\n					\n						Armand Ballart\n						Climber\, writer\, and illustrator with extensive experience in route development. Author of reference books\, he combines the practice of climbing with the cultural and artistic dissemination of the vertical world.
URL:https://sharmaclimbing.com/en/eventos/escalada-con-friends-en-el-roco/
LOCATION:Shama Climbing Gavà\, Carrer Girona\, 25\, 08850 Gavà\, Barcelona\, Barcelona\, 08850\, Spain
CATEGORIES:Comunidad,Sharma Climbing Gavà
ATTACH;FMTTYPE=image/webp:https://sharmaclimbing.com/wp-content/uploads/2025/12/destacada-en-nueva-presa.webp
ORGANIZER;CN="Sharma Climbing Gav%C3%A0":MAILTO:info@sharmaclimbinggava.com
END:VEVENT
BEGIN:VEVENT
DTSTART;TZID=Europe/Paris:20251215T190000
DTEND;TZID=Europe/Paris:20251218T203000
DTSTAMP:20260423T081258
CREATED:20251202T113114Z
LAST-MODIFIED:20251216T144327Z
UID:10000030-1765825200-1766089800@sharmaclimbing.com
SUMMARY:Training and Health in Climbing
DESCRIPTION:TRAINING AND HEALTH IN CLIMBING\n			\n			\n				\n				\n				\n				\n			\n				\n				\n				\n				\n				\n				\n				WATCH THE WORKSHOPS\n			\n			\n				\n				\n				\n				\n			\n				\n				\n				\n				\n				\n				\n				WATCH THE WORKSHOPS\n			\n			\n				\n				\n				\n				\n			\n				\n				\n			\n				\n				\n				\n				\n				\n				\n				\n				\n				\n				\n				\n				\n				\n				\n				\n				\n				\n				Experience a week of training and health at Sharma Climbing Gavà\n			\n			\n				\n				\n				\n				\n				\n				\n				\n				\n				\n				During the week of December 15-17\, we invite you to participate in a special series of sessions focused on training\, injury prevention\, and performance in climbing. From Monday to Thursday\, various industry experts will lead talks and hands-on workshops on key topics for improving as a climber: from competition data analysis to injury prevention and strength training tailored to different skill levels. A unique opportunity to learn\, ask questions\, and continue growing alongside leading experts. \n			\n			\n				\n				\n				\n				\n			\n				\n				\n			\n				\n				\n				\n				\n				\n				\n				\n				\n				\n				\n				\n				\n				\n				\n				\n				\n				\n				15/12 – 19:00 a 20:30 h \n			\n				\n				\n				\n				\n				\n					\n					\n						Data analysis in competitive climbing\n						Learn how to interpret and apply data in high-performance climbing. Matías Ochoa will explain how to measure progress\, analyze competition performance\, and use key information to improve climbers’ preparation and strategy. He will also delve into data-driven decision-making and how data can help you optimize your training and better understand your strengths and areas for improvement on the wall. \nSIGN UP \n					\n				\n			\n			\n				\n				\n				\n				\n				\n				\n				\n				\n				\n				16/12 – 19:00 a 20:30 h \n			\n				\n				\n				\n				\n				\n					\n					\n						Injury prevention in climbing\n						Learn the essential guidelines for avoiding common climbing injuries and training safely. Luis Betancourt will share practical tools for identifying risks\, improving technique\, and maintaining a healthy and prepared body. \nHe will also cover warm-up and mobility strategies that reduce discomfort\, prevent relapses\, and prolong your progress over time\, both on rock and in a climbing gym. \nSIGN UP \n					\n				\n			\n			\n				\n				\n				\n				\n				\n				\n				\n				\n				\n				17/12 & 18/12 – 19:00 a 20:30 h \n			\n				\n				\n				\n				\n				\n					\n					\n						Strength and endurance training at your climbing wall\n						\n\n\n\n\n\n\nAlbert de Pablo and Jordi Juanola\, coaches from the high-performance area of ​​CCT21\, will offer a session on how to optimize your strength and endurance training at the climbing wall. With extensive experience in physical conditioning\, rehabilitation\, and methodological innovation\, they will share practical strategies to make the most of the facilities and improve your performance efficiently and tailored to your level. \nSIGN UP 17/12SIGN UP 18/12 \n\n\n\n\n\n\n\n					\n				\n			\n			\n				\n				\n				\n				\n			\n				\n				\n			\n				\n				\n				\n				\n				\n				\n				\n				\n				\n				\n				\n				\n				\n				\n				\n				\n				\n				REVIEW ALL THE EVENT INFORMATION
URL:https://sharmaclimbing.com/en/eventos/training-and-health-in-climbing/
LOCATION:Shama Climbing Gavà\, Carrer Girona\, 25\, 08850 Gavà\, Barcelona\, Barcelona\, 08850\, Spain
CATEGORIES:Comunidad,Sharma Climbing Gavà
ATTACH;FMTTYPE=image/webp:https://sharmaclimbing.com/wp-content/uploads/2025/12/destacada-salud-en.webp
ORGANIZER;CN="Sharma Climbing Gav%C3%A0":MAILTO:info@sharmaclimbinggava.com
END:VEVENT
BEGIN:VEVENT
DTSTART;TZID=Europe/Paris:20251204T173000
DTEND;TZID=Europe/Paris:20251204T210000
DTSTAMP:20260423T081258
CREATED:20251112T110807Z
LAST-MODIFIED:20251112T122021Z
UID:10000012-1764869400-1764882000@sharmaclimbing.com
SUMMARY:Endless Power Screening with Ramonet’s Visit + Tenaya Aruma Test
DESCRIPTION:Endless Power + Ramonet + Test Tenaya Aruma\n			\n				\n				\n				\n				\n				\n					\n					\n						 \n						Day(s) \n					\n						: \n					\n						 \n						Hour(s) \n					\n						: \n					\n						 \n						Minute(s) \n					\n						: \n					\n						 \n						Second(s) \n					\n				\n			\n			\n				\n				\n				\n				\n			\n				\n				\n				\n				\n				\n				\n				Book your spot\n			\n			\n				\n				\n				\n				\n			\n				\n				\n				\n				\n				\n				\n				Book your spot\n			\n			\n				\n				\n				\n				\n			\n				\n				\n			\n				\n				\n				\n				\n				\n				\n				\n				\n				\n				\n				\n				\n				\n				\n				\n				\n				\n				LIVE A UNIQUE EVENING\n			\n			\n				\n				\n				\n				\n			\n				\n				\n				\n				\n				\n				\n				\n				\n				\n				\n				Tenaya Test – Aruma ModelTake part in the Tenaya Test and be among the first to try the new Tenaya Aruma. Discover their precision\, sensitivity\, and comfort directly on the wall\, and enjoy a unique experience sharing impressions with other climbers passionate about innovation and performance. \n				\n			\n				\n			\n				\n				\n				\n				\n				17:00 – 20:30 h\n			\n			\n				\n				\n				\n				\n			\n				\n				\n				\n				\n				\n				\n				\n				\n				\n				\n				19:00 h\n			\n				\n			\n				\n				\n				\n				\n				Screening and Talk – Endless PowerEnjoy the screening of the documentary Endless Power and get an inside look at Ramonet’s story. An inspiring film that traces his journey\, mindset of perseverance\, and the values that have kept him at the top for more than two decades. \n				Book your spot (free entry)\n			\n			\n				\n				\n				\n				\n			\n				\n				\n				\n				\n				\n				\n				\n				\n				\n				\n				\n			\n			\n				\n				\n				\n				\n			\n				\n				\n			\n				\n				\n				\n				\n				\n				\n				\n				\n				\n				\n				\n				\n				\n				\n				\n				\n				\n				Special Guest\nWe’ll be joined at Sharma Climbing Barcelona by Ramón Julián “Ramonet”\, one of the most iconic figures in sport climbing worldwide\, who will present his film Endless Power and share with the community his experiences\, lessons\, and vision of the sport’s evolution. \n			\n			\n				\n				\n				\n				\n			\n				\n				\n				\n				\n				\n				\n				\n				\n				\n				\n				\n					\n					\n						RAMON JULIÁN "RAMONET"\n						Ramón Julián\, known in the climbing world as Ramonet\, is one of the most outstanding legends of international sport climbing. Born in Manlleu (Catalonia)\, he has been a world champion\, two-time European champion\, and winner of multiple World Cup events. Recognized for his perseverance\, flawless technique\, and a career that has kept him among the elite for more than two decades\, Ramonet embodies the true spirit of dedication and passion for climbing. Beyond his competitive career\, he continues to inspire new generations through his meticulous approach\, humility\, and love for the rock. \n					\n				\n			\n			\n				\n				\n				\n				\n			\n				\n				\n			\n				\n				\n				\n				\n				\n				\n				\n				\n				\n				\n				\n				\n				\n				\n				\n				\n				\n				Test Tenaya Aruma\n			\n			\n				\n				\n				\n				\n			\n				\n				\n				\n				\n				\n				\n				\n				\n				\n				\n				\n\n    \n\n\n\n    \n\n    \n    \n    \n\n    \n    \n    \n  \n\n\n    \n\n    ⬤\n    ⬤\n    ⬤\n  \n\n\n\n\n\n			\n			\n				\n				\n				\n				\n				\n				\n				\n				\n				\n				Come and try the new Tenaya Aruma exclusively this Thursday\, December 4th\, from 5:00 to 8:30 p.m. at Sharma Climbing Barcelona. Experience firsthand the precision\, sensitivity\, and comfort that define this new model designed to perform at its best on any type of wall. Feel the difference and share the experience with other climbers in a unique day dedicated to innovation and the passion for climbing. \n			\n			\n				\n				\n				\n				\n			\n				\n				\n			\n				\n				\n				\n				\n				\n				\n				\n				\n				\n				\n				\n				\n				\n				\n				\n				\n				\n				REVIEW ALL THE EVENT INFORMATION
URL:https://sharmaclimbing.com/en/eventos/endless-power-barcelona/
LOCATION:Sharma Climbing Barcelona\, Carrer del Marroc 204\, Barcelona\, Barcelona\, 08019\, Spain
CATEGORIES:Members,Screenings,Sharma Climbing Barcelona EN,Talks
ATTACH;FMTTYPE=image/webp:https://sharmaclimbing.com/wp-content/uploads/2025/10/endless-power.webp
END:VEVENT
BEGIN:VEVENT
DTSTART;TZID=Europe/Paris:20251120T183000
DTEND;TZID=Europe/Paris:20251120T213000
DTSTAMP:20260423T081258
CREATED:20251029T115534Z
LAST-MODIFIED:20251104T110038Z
UID:10000008-1763663400-1763674200@sharmaclimbing.com
SUMMARY:HOMO MONTSERRATINUS
DESCRIPTION:The evolution of climbing in Montserrat\n			\n				\n				\n				\n				\n				\n					\n					\n						 \n						Day(s) \n					\n						: \n					\n						 \n						Hour(s) \n					\n						: \n					\n						 \n						Minute(s) \n					\n						: \n					\n						 \n						Second(s) \n					\n				\n			\n			\n				\n				\n				\n				\n			\n				\n				\n				\n				\n				\n				\n				PARTICIPATE IN THE CONTEST\n			\n				RESERVE YOUR PLACE\n			\n			\n				\n				\n				\n				\n			\n				\n				\n				\n				\n				\n				\n				PARTICIPATE IN THE CONTEST\n			\n			\n				\n				\n				\n				\n				\n				RESERVE YOUR PLACE\n			\n			\n				\n				\n				\n				\n			\n				\n				\n			\n				\n				\n				\n				\n				\n				\n				\n				\n				\n				\n				\n				\n				\n				\n				\n				\n				\n				Win a t-shirt and a magnesium fire starter kit with your photo of Montserrat\n			\n			\n				\n				\n				\n				\n				\n				\n				\n				\n				\n				Do you have a great photo of yourself climbing in Montserrat? Whether you’re a photographer or a climber\, this is your chance to show it off. Submit your A4 image using the form on this page before Tuesday\, November 18th\, and enter the Montserrat Photography Contest. All photos will be displayed on Thursday\, November 20th\, at Sharma Climbing Gavà\, during the event dedicated to the evolution of climbing on this iconic mountain. \nThe winning photo will be chosen by public vote at 8:30 pm\, and the photographer will receive a t-shirt and chalk. \n			\n				PARTICIPATE IN THE CONTEST\n			\n			\n				\n				\n				\n				\n			\n				\n				\n			\n				\n				\n				\n				\n				\n				\n				\n				\n				\n				\n				\n				\n				\n				\n				\n				\n				\n				EXPERIENCE A UNIQUE NIGHT\n			\n			\n				\n				\n				\n				\n			\n				\n				\n				\n				\n				\n				\n				\n				\n				\n				\n				Screening and talk – Homo MontserratinusEnjoy the documentary Homo Montserratinus and a discussion with key figures from the past and present of climbing in Montserrat. An audiovisual journey through the history\, ethics\, and evolution of this iconic climbing area. \n				Reserve your place (free of charge)\n			\n				\n			\n				\n				\n				\n				\n				18:30 – 20:00 h\n			\n			\n				\n				\n				\n				\n			\n				\n				\n				\n				\n				\n				\n				\n				\n				\n				\n				20:30 – 21:30 h\n			\n				\n			\n				\n				\n				\n				\n				Wine\, appetizers and a photographic exhibitionAfter the screening\, share a glass of wine and an aperitif at the bar while enjoying a photographic exhibition dedicated to climbing in Montserrat. \n				\n			\n			\n				\n				\n				\n				\n			\n				\n				\n				\n				\n				\n				\n				\n				\n				\n				\n				Montserrat Photography ContestParticipate by sending your climbing photo from Montserrat (A4 format). All photos will be displayed during the event\, and the winning photo will be chosen by the public at 8:30 p.m.Prize: T-shirt + chalk \n				Upload your photo\n			\n				\n			\n				\n				\n				\n				\n				20:30 h\n			\n			\n				\n				\n				\n				\n			\n				\n				\n				\n				\n				\n				\n				\n				\n				\n				\n				\n			\n			\n				\n				\n				\n				\n			\n				\n				\n			\n				\n				\n				\n				\n				\n				\n				\n				\n				\n				\n				\n				\n				\n				\n				\n				\n				\n				Special guests\nNos acompañarán algunos de los protagonistas que han marcado la historia de la escalada en Montserrat. Con ellos compartiremos experiencias\, anécdotas y visiones sobre cómo ha evolucionado la escalada en este entorno único. \n			\n			\n				\n				\n				\n				\n			\n				\n				\n				\n				\n				\n				\n				\n				\n				\n				\n				\n					\n					\n						SAMUEL COLOMER\n						Climber\, director\, and author\, known for exploring the connection between humans and mountains. Director of Homo Montserratinus\, his work promotes respect\, safety\, and tradition in climbing. \n					\n				\n			\n				\n				\n				\n				\n				\n					\n					\n						JOAN CERDÀ\n						A historical figure in Catalan mountaineering and a member of GAM and SAM. Between the 1960s and 1980s\, he opened numerous routes in Montserrat\, the Pyrenees\, and the Andes\, also participating in international expeditions. \n					\n				\n			\n				\n				\n				\n				\n				\n					\n					\n						DANI BURGAROLAS\n						Barcelona-based climber and journalist specializing in traditional climbing and big walls. A member of CADE\, he has made first ascents in Montserrat\, the Pyrenees\, and Mont-sec\, always with an ethical and committed approach. \n					\n				\n			\n				\n				\n				\n				\n				\n					\n					\n						JORDI ESTEVE\n						A leading climber in the traditional Montserrat climbing style. He has opened and freed numerous routes in the area and on international walls\, standing out for his commitment to the purity and original spirit of climbing. \n					\n				\n			\n			\n				\n				\n				\n				\n			\n				\n				\n			\n				\n				\n				\n				\n				\n				\n				\n				\n				\n				\n				\n				\n				\n				\n				\n				\n				\n				SEND YOUR PROPOSAL IN A4 SIZE \n\n			\n				\n				\n				\n				\n				\n				\n				\n					\n				\n				\n					\n\n  \n\n\n\n\n     \n\n\n     \n\n Adjuntar diseño TAMAÑO A4 / Adjuntar disseny MIDA A4 / Attach design SIZE A4  (.png/.ai/.pdf - max 20mb) *\n\n\n\n\n  \n  He leído y acepto la\n  \n    \n      política de privacidad\n    \n  \n  \n    (campo obligatorio / required field)\n  \n \n\n\n\n\n\n\n				\n			\n				\n			\n			\n				\n				\n				\n				\n			\n				\n				\n			\n				\n				\n				\n				\n				\n				\n				\n				\n				\n				\n				\n				\n				\n				\n				\n				\n				\n				REVIEW ALL THE EVENT INFORMATION
URL:https://sharmaclimbing.com/en/eventos/homo-montserratinus/
LOCATION:Shama Climbing Gavà\, Carrer Girona\, 25\, 08850 Gavà\, Barcelona\, Barcelona\, 08850\, Spain
ATTACH;FMTTYPE=image/webp:https://sharmaclimbing.com/wp-content/uploads/2025/10/Homo-Montserratinus-Alternativa3-Pared-de-lAeri-Samuel-Colomer-02-scaled.webp
ORGANIZER;CN="Sharma Climbing Gav%C3%A0":MAILTO:info@sharmaclimbinggava.com
END:VEVENT
BEGIN:VEVENT
DTSTART;TZID=Europe/Paris:20251120T090000
DTEND;TZID=Europe/Paris:20251120T233000
DTSTAMP:20260423T081258
CREATED:20251112T141901Z
LAST-MODIFIED:20251114T123136Z
UID:10000015-1763629200-1763681400@sharmaclimbing.com
SUMMARY:Aniversario Sharma Climbing Madrid
DESCRIPTION:Day(s) \n					\n						: \n					\n						 \n						Hour(s) \n					\n						: \n					\n						 \n						Minute(s) \n					\n						: \n					\n						 \n						Second(s) \n					\n				\n			\n			\n				\n				\n				\n				\n			\n				\n				\n				\n				\n				\n				\n				DISCOVER THE ACTIVITIES\n			\n			\n				\n				\n				\n				\n			\n				\n				\n				\n				\n				\n				\n				DISCOVER THE ACTIVITIES\n			\n			\n				\n				\n				\n				\n			\n				\n				\n			\n				\n				\n				\n				\n				\n				\n				\n				\n				\n				\n				\n				\n				\n				\n				\n				\n				\n				ACTIVITIES TO CELEBRATE TOGETHER\nWe’re celebrating 5 years together at Sharma Climbing Madrid\, a journey filled with moments\, training\, friendships\, and lots of climbing. We want to share this day with you\, enjoying activities\, music\, and experiences that reflect who we are: a community united by a passion for climbing and enjoying every step of the way. \n			\n			\n				\n				\n				\n				\n			\n				\n				\n				\n				\n				\n				\n				\n				\n				\n				\n				\n \n  \n  \n  \n  \n \n \n  \n   \n    \n     \n      \n         \n       \n       Photo Booth\n      \n      5:00 PM - 9:00 PM  \n     \n     \n      \n         \n       \n       DJ in the Gym\n      \n      5:30 PM - 9:30 PM  \n     \n     \n      \n         \n       \n       Live Music\n      \n      10:00 PM - 11:30 PM  \n     \n     \n      \n           \n       \n       Boulder League Finals\n      \n      5:00 PM - 8:30 PM  \n     \n    \n    \n     \n      Challenges ▼\n     \n     \n      \n       \n        Anniversary Route\n        Special prize for completing zone and top  \n       \n       \n        Balance Challenge\n        Special balance and coordination challenge  \n       \n      \n     \n    \n    \n     \n      Workshops ▼\n     \n     \n      \n       \n        Falling Techniques\n        7:30 PM - 8:30 PM  Sign Up\n       \n       \n        Spotting & Crash Pad Use\n        7:30 PM - 8:30 PM  Sign Up\n       \n      \n     \n    \n    \n     \n      Yoga & Fitness Rooms ▼\n     \n     \n      \n       \n        Yoga Masterclass\n        7:00 PM - 8:30 PM  Sign Up\n       \n       \n        Fitness & Climbing Session\n        7:00 PM - 8:00 PM  Sign Up\n       \n      \n     \n    \n    \n     \n     \n     \n      Kids Exhibition\n     \n     For our youngest climbers  Register here\n    \n    \n     \n      \n       Raffles\n      \n      Boulder and Anniversary with amazing prizes  \n     \n     \n      \n       Prize Ceremony\n      \n      Recognition of Boulder League winners  \n     \n     \n      \n       Cake & Toast\n      \n      Special celebration  \n     \n     \n      \n       Bar Closing\n      \n      Until 12:00 midnight
URL:https://sharmaclimbing.com/en/eventos/aniversario-sharma-climbing-madrid/
LOCATION:Sharma Climbing Madrid\, C. de Julián Camarillo\, 55\, Madrid\, Madrid\, 28037\, Spain
ATTACH;FMTTYPE=image/jpeg:https://sharmaclimbing.com/wp-content/uploads/2025/11/CABECERA-LANDING-ANIVER-MAD-2025-copia.jpg
ORGANIZER;CN="Sharma Climbing Madrid":MAILTO:info@sharmaclimbingmadrid.com
END:VEVENT
END:VCALENDAR