BEGIN:VCALENDAR
VERSION:2.0
PRODID:-//Sharma Climbing - ECPv6.15.17.1//NONSGML v1.0//EN
CALSCALE:GREGORIAN
METHOD:PUBLISH
X-WR-CALNAME:Sharma Climbing
X-ORIGINAL-URL:https://sharmaclimbing.com
X-WR-CALDESC:Eventos para Sharma Climbing
REFRESH-INTERVAL;VALUE=DURATION:PT1H
X-Robots-Tag:noindex
X-PUBLISHED-TTL:PT1H
BEGIN:VTIMEZONE
TZID:Europe/Paris
BEGIN:DAYLIGHT
TZOFFSETFROM:+0100
TZOFFSETTO:+0200
TZNAME:CEST
DTSTART:20240331T010000
END:DAYLIGHT
BEGIN:STANDARD
TZOFFSETFROM:+0200
TZOFFSETTO:+0100
TZNAME:CET
DTSTART:20241027T010000
END:STANDARD
BEGIN:DAYLIGHT
TZOFFSETFROM:+0100
TZOFFSETTO:+0200
TZNAME:CEST
DTSTART:20250330T010000
END:DAYLIGHT
BEGIN:STANDARD
TZOFFSETFROM:+0200
TZOFFSETTO:+0100
TZNAME:CET
DTSTART:20251026T010000
END:STANDARD
BEGIN:DAYLIGHT
TZOFFSETFROM:+0100
TZOFFSETTO:+0200
TZNAME:CEST
DTSTART:20260329T010000
END:DAYLIGHT
BEGIN:STANDARD
TZOFFSETFROM:+0200
TZOFFSETTO:+0100
TZNAME:CET
DTSTART:20261025T010000
END:STANDARD
END:VTIMEZONE
BEGIN:VEVENT
DTSTART;TZID=Europe/Paris:20251204T173000
DTEND;TZID=Europe/Paris:20251204T210000
DTSTAMP:20260417T123729
CREATED:20251112T110807Z
LAST-MODIFIED:20251112T121404Z
UID:10000010-1764869400-1764882000@sharmaclimbing.com
SUMMARY:Proyección Endless Power con visita de Ramonet + Test Tenaya Aruma
DESCRIPTION:Endless Power + Ramonet + Test Tenaya Aruma\n			\n				\n				\n				\n				\n				\n					\n					\n						 \n						Day(s) \n					\n						: \n					\n						 \n						Hour(s) \n					\n						: \n					\n						 \n						Minute(s) \n					\n						: \n					\n						 \n						Second(s) \n					\n				\n			\n			\n				\n				\n				\n				\n			\n				\n				\n				\n				\n				\n				\n				RESERVA TU PLAZA\n			\n			\n				\n				\n				\n				\n			\n				\n				\n				\n				\n				\n				\n				RESERVA TU PLAZA\n			\n			\n				\n				\n				\n				\n			\n				\n				\n			\n				\n				\n				\n				\n				\n				\n				\n				\n				\n				\n				\n				\n				\n				\n				\n				\n				\n				VIVE UNA TARDE ÚNICA\n			\n			\n				\n				\n				\n				\n			\n				\n				\n				\n				\n				\n				\n				\n				\n				\n				\n				Test Tenaya modelo ArumaParticipa en el Test Tenaya y sé de los primeros en probar las nuevas Tenaya Aruma. Descubre su precisión\, sensibilidad y comodidad directamente en el muro\, y vive una experiencia única compartiendo impresiones con otros escaladores apasionados por la innovación y el rendimiento. \n				\n			\n				\n			\n				\n				\n				\n				\n				17:00 – 20:30 h\n			\n			\n				\n				\n				\n				\n			\n				\n				\n				\n				\n				\n				\n				\n				\n				\n				\n				19:00 h\n			\n				\n			\n				\n				\n				\n				\n				Proyección y charla – Endless PowerDisfruta de la proyección del documental Endless Power y conoce de cerca la historia de Ramonet. Una película inspiradora que recorre su trayectoria\, su mentalidad de superación y los valores que lo llevaron a mantenerse en la élite durante más de dos décadas. \n				Reserva tu plaza (sin coste)\n			\n			\n				\n				\n				\n				\n			\n				\n				\n				\n				\n				\n				\n				\n				\n				\n				\n				\n			\n			\n				\n				\n				\n				\n			\n				\n				\n			\n				\n				\n				\n				\n				\n				\n				\n				\n				\n				\n				\n				\n				\n				\n				\n				\n				\n				Invitado especial\nNos acompañará en Sharma Climbing Barcelona Ramón Julián “Ramonet”\, una de las figuras más emblemáticas de la escalada deportiva mundial\, para presentar su película Endless Power y compartir con la comunidad su experiencia\, aprendizajes y visión sobre la evolución del deporte. \n			\n			\n				\n				\n				\n				\n			\n				\n				\n				\n				\n				\n				\n				\n				\n				\n				\n				\n					\n					\n						RAMON JULIÁN "RAMONET"\n						Ramón Julián\, conocido en el mundo de la escalada como Ramonet\, es una de las leyendas más destacadas de la escalada deportiva internacional. Nacido en Manlleu (Cataluña)\, ha sido campeón del mundo\, doble campeón de Europa y ganador de múltiples pruebas de la Copa del Mundo. Reconocido por su constancia\, técnica impecable y una trayectoria que lo mantiene en la élite durante más de dos décadas\, Ramonet representa la esencia del esfuerzo y la pasión por la escalada. Además de su carrera competitiva\, continúa inspirando a nuevas generaciones con su enfoque meticuloso\, su humildad y su amor por la roca. \n					\n				\n			\n			\n				\n				\n				\n				\n			\n				\n				\n			\n				\n				\n				\n				\n				\n				\n				\n				\n				\n				\n				\n				\n				\n				\n				\n				\n				\n				Test Tenaya Aruma\n			\n			\n				\n				\n				\n				\n			\n				\n				\n				\n				\n				\n				\n				\n				\n				\n				\n				\n\n  \n\n  \n    \n    \n    \n\n    \n    \n    \n  \n\n  \n    ⬤\n    ⬤\n    ⬤\n  \n\n\n\n			\n			\n				\n				\n				\n				\n				\n				\n				\n				\n				\n				Ven a probar las nuevas Tenaya Aruma en exclusiva este jueves 4 de diciembre de 17:00 a 20:30 h en Sharma Climbing Barcelona. Descubre por ti mismo la precisión\, sensibilidad y confort que definen este nuevo modelo diseñado para rendir al máximo en cualquier tipo de pared. Siente la diferencia y comparte la experiencia con otros escaladores en una jornada única dedicada a la innovación y la pasión por escalar. \n			\n			\n				\n				\n				\n				\n			\n				\n				\n			\n				\n				\n				\n				\n				\n				\n				\n				\n				\n				\n				\n				\n				\n				\n				\n				\n				\n				REPASA TODA LA INFORMACIÓN DEL EVENTO
URL:https://sharmaclimbing.com/eventos/endless-power-barcelona/
LOCATION:Sharma Climbing Barcelona\, Carrer del Marroc 204\, Barcelona\, Barcelona\, 08019\, Spain
CATEGORIES:Charlas,Proyecciones,Sharma Climbing Barcelona,Socios
ATTACH;FMTTYPE=image/webp:https://sharmaclimbing.com/wp-content/uploads/2025/10/endless-power.webp
END:VEVENT
BEGIN:VEVENT
DTSTART;TZID=Europe/Paris:20251215T190000
DTEND;TZID=Europe/Paris:20251218T203000
DTSTAMP:20260417T123729
CREATED:20251202T113114Z
LAST-MODIFIED:20251216T144218Z
UID:10000028-1765825200-1766089800@sharmaclimbing.com
SUMMARY:Entrenamiento y Salud en Escalada
DESCRIPTION:ENTRENAMIENTO Y SALUD EN ESCALADA\n			\n			\n				\n				\n				\n				\n			\n				\n				\n				\n				\n				\n				\n				MIRA LAS CHARLAS\n			\n			\n				\n				\n				\n				\n			\n				\n				\n				\n				\n				\n				\n				MIRA LAS CHARLAS\n			\n			\n				\n				\n				\n				\n			\n				\n				\n			\n				\n				\n				\n				\n				\n				\n				\n				\n				\n				\n				\n				\n				\n				\n				\n				\n				\n				Vive una semana de entrenamiento y salud en Sharma Climbing Gavà\n			\n			\n				\n				\n				\n				\n				\n				\n				\n				\n				\n				Durante la semana del 15 al 21 de diciembre\, te invitamos a participar en un ciclo especial de sesiones centradas en el entrenamiento\, la prevención y el rendimiento en escalada. De lunes a jueves\, diferentes expertos del sector impartirán charlas y talleres teórico-prácticos sobre temas clave para mejorar como escalador: desde el análisis de datos en competición hasta la prevención de lesiones y el trabajo de fuerza adaptado por niveles. Una oportunidad única para aprender\, preguntar y seguir creciendo junto a ponentes de referencia. \n			\n			\n				\n				\n				\n				\n			\n				\n				\n			\n				\n				\n				\n				\n				\n				\n				\n				\n				\n				\n				\n				\n				\n				\n				\n				\n				\n				15/12 – 19:00 a 20:30 h \n			\n				\n				\n				\n				\n				\n					\n					\n						Análisis de datos en escalada de competición\n						Aprende cómo se interpretan y aplican los datos en la escalada de alto rendimiento. Matías Ochoa explicará cómo medir el progreso\, analizar el rendimiento en competición y utilizar información clave para mejorar la preparación y la estrategia de los escaladores. Además\, profundizará en la toma de decisiones basada en datos y en cómo estos pueden ayudarte a optimizar tus entrenamientos y a comprender mejor tus puntos fuertes y áreas de mejora dentro del muro. \nQUIERO APUNTARME \n					\n				\n			\n			\n				\n				\n				\n				\n				\n				\n				\n				\n				\n				16/12 – 19:00 a 20:30 h \n			\n				\n				\n				\n				\n				\n					\n					\n						Prevención de lesiones en escalada\n						Conoce las pautas esenciales para evitar lesiones comunes en escaladores y entrenar de forma segura. Luis Betancourt compartirá herramientas prácticas para identificar riesgos\, mejorar la técnica y mantener un cuerpo sano y preparado. \nTambién abordará estrategias de calentamiento y movilidad que permiten reducir molestias\, prevenir recaídas y prolongar tu progreso en el tiempo\, tanto en roca como en rocódromo. \nQUIERO APUNTARME \n					\n				\n			\n			\n				\n				\n				\n				\n				\n				\n				\n				\n				\n				17/12 y 18/12 – 19:00 a 20:30 h \n			\n				\n				\n				\n				\n				\n					\n					\n						Entrenamiento de la fuerza y la resistencia en tu rocódromo\n						\n\n\n\n\n\n\nAlbert de Pablo y Jordi Juanola\, entrenadores del área de alto rendimiento del CCT21\, ofrecerán una sesión sobre cómo optimizar tu entrenamiento de fuerza y resistencia dentro del rocódromo. Con experiencia consolidada en preparación física\, readaptación e innovación metodológica\, compartirán estrategias prácticas para aprovechar al máximo las instalaciones y mejorar tu rendimiento de forma eficiente y adaptada a tu nivel. \nQUIERO APUNTARME 17/12QUIERO APUNTARME 18/12 \n\n\n\n\n\n\n\n					\n				\n			\n			\n				\n				\n				\n				\n			\n				\n				\n			\n				\n				\n				\n				\n				\n				\n				\n				\n				\n				\n				\n				\n				\n				\n				\n				\n				\n				REPASA TODA LA INFORMACIÓN DEL EVENTO
URL:https://sharmaclimbing.com/eventos/entrenamiento-y-salud-en-escalada/
LOCATION:Shama Climbing Gavà\, Carrer Girona\, 25\, 08850 Gavà\, Barcelona\, Barcelona\, 08850\, Spain
CATEGORIES:Comunidad,Sharma Climbing Gavà
ATTACH;FMTTYPE=image/webp:https://sharmaclimbing.com/wp-content/uploads/2025/12/destacada-salud.webp
ORGANIZER;CN="Sharma Climbing Gav%C3%A0":MAILTO:info@sharmaclimbinggava.com
END:VEVENT
END:VCALENDAR